BEGIN:VCALENDAR
VERSION:2.0
PRODID:-//SUR Lutte de Classes Education - ECPv6.15.20//NONSGML v1.0//EN
CALSCALE:GREGORIAN
METHOD:PUBLISH
X-ORIGINAL-URL:https://sur-luttedeclasses.fr
X-WR-CALDESC:Évènements pour SUR Lutte de Classes Education
REFRESH-INTERVAL;VALUE=DURATION:PT1H
X-Robots-Tag:noindex
X-PUBLISHED-TTL:PT1H
BEGIN:VTIMEZONE
TZID:Europe/Paris
BEGIN:DAYLIGHT
TZOFFSETFROM:+0100
TZOFFSETTO:+0200
TZNAME:CEST
DTSTART:20230326T010000
END:DAYLIGHT
BEGIN:STANDARD
TZOFFSETFROM:+0200
TZOFFSETTO:+0100
TZNAME:CET
DTSTART:20231029T010000
END:STANDARD
BEGIN:DAYLIGHT
TZOFFSETFROM:+0100
TZOFFSETTO:+0200
TZNAME:CEST
DTSTART:20240331T010000
END:DAYLIGHT
BEGIN:STANDARD
TZOFFSETFROM:+0200
TZOFFSETTO:+0100
TZNAME:CET
DTSTART:20241027T010000
END:STANDARD
BEGIN:DAYLIGHT
TZOFFSETFROM:+0100
TZOFFSETTO:+0200
TZNAME:CEST
DTSTART:20250330T010000
END:DAYLIGHT
BEGIN:STANDARD
TZOFFSETFROM:+0200
TZOFFSETTO:+0100
TZNAME:CET
DTSTART:20251026T010000
END:STANDARD
END:VTIMEZONE
BEGIN:VEVENT
DTSTART;TZID=Europe/Paris:20241213T090000
DTEND;TZID=Europe/Paris:20241213T180000
DTSTAMP:20260423T050953
CREATED:20241107T120712Z
LAST-MODIFIED:20241128T110344Z
UID:264-1734080400-1734112800@sur-luttedeclasses.fr
SUMMARY:Congrès
DESCRIPTION:
URL:https://sur-luttedeclasses.fr/index.php/event/congres/
LOCATION:local\, 7 rue du maréchal Joffre\, Le Mans\, 72000\, France
END:VEVENT
END:VCALENDAR